BEGIN:VCALENDAR
VERSION:2.0
PRODID:-//Public Libraries Victoria - ECPv6.15.20//NONSGML v1.0//EN
CALSCALE:GREGORIAN
METHOD:PUBLISH
X-WR-CALNAME:Public Libraries Victoria
X-ORIGINAL-URL:https://www.plv.org.au
X-WR-CALDESC:Events for Public Libraries Victoria
REFRESH-INTERVAL;VALUE=DURATION:PT1H
X-Robots-Tag:noindex
X-PUBLISHED-TTL:PT1H
BEGIN:VTIMEZONE
TZID:Australia/Melbourne
BEGIN:STANDARD
TZOFFSETFROM:+1100
TZOFFSETTO:+1000
TZNAME:AEST
DTSTART:20260404T160000
END:STANDARD
BEGIN:DAYLIGHT
TZOFFSETFROM:+1000
TZOFFSETTO:+1100
TZNAME:AEDT
DTSTART:20261003T160000
END:DAYLIGHT
BEGIN:STANDARD
TZOFFSETFROM:+1100
TZOFFSETTO:+1000
TZNAME:AEST
DTSTART:20270403T160000
END:STANDARD
BEGIN:DAYLIGHT
TZOFFSETFROM:+1000
TZOFFSETTO:+1100
TZNAME:AEDT
DTSTART:20271002T160000
END:DAYLIGHT
BEGIN:STANDARD
TZOFFSETFROM:+1100
TZOFFSETTO:+1000
TZNAME:AEST
DTSTART:20280401T160000
END:STANDARD
BEGIN:DAYLIGHT
TZOFFSETFROM:+1000
TZOFFSETTO:+1100
TZNAME:AEDT
DTSTART:20280930T160000
END:DAYLIGHT
BEGIN:STANDARD
TZOFFSETFROM:+1100
TZOFFSETTO:+1000
TZNAME:AEST
DTSTART:20290331T160000
END:STANDARD
BEGIN:DAYLIGHT
TZOFFSETFROM:+1000
TZOFFSETTO:+1100
TZNAME:AEDT
DTSTART:20291006T160000
END:DAYLIGHT
BEGIN:STANDARD
TZOFFSETFROM:+1100
TZOFFSETTO:+1000
TZNAME:AEST
DTSTART:20300406T160000
END:STANDARD
BEGIN:DAYLIGHT
TZOFFSETFROM:+1000
TZOFFSETTO:+1100
TZNAME:AEDT
DTSTART:20301005T160000
END:DAYLIGHT
END:VTIMEZONE
BEGIN:VEVENT
DTSTART;VALUE=DATE:20270204
DTEND;VALUE=DATE:20270205
DTSTAMP:20260423T022115
CREATED:20240801T041220Z
LAST-MODIFIED:20240801T041220Z
UID:10000597-1801699200-1801785599@www.plv.org.au
SUMMARY:Physical Disability Awareness Day
DESCRIPTION:Physical Disability Awareness Day Goes Global – Sunday 4th February 2024
URL:https://www.plv.org.au/event/physical-disability-awareness-day/2027-02-04/
CATEGORIES:Diversity, Equity and Inclusion,Health and Wellbeing
END:VEVENT
BEGIN:VEVENT
DTSTART;VALUE=DATE:20280204
DTEND;VALUE=DATE:20280205
DTSTAMP:20260423T022115
CREATED:20240801T041220Z
LAST-MODIFIED:20240801T041220Z
UID:10000598-1833235200-1833321599@www.plv.org.au
SUMMARY:Physical Disability Awareness Day
DESCRIPTION:Physical Disability Awareness Day Goes Global – Sunday 4th February 2024
URL:https://www.plv.org.au/event/physical-disability-awareness-day/2028-02-04/
CATEGORIES:Diversity, Equity and Inclusion,Health and Wellbeing
END:VEVENT
BEGIN:VEVENT
DTSTART;VALUE=DATE:20290204
DTEND;VALUE=DATE:20290205
DTSTAMP:20260423T022115
CREATED:20240801T041220Z
LAST-MODIFIED:20240801T041220Z
UID:10000599-1864857600-1864943999@www.plv.org.au
SUMMARY:Physical Disability Awareness Day
DESCRIPTION:Physical Disability Awareness Day Goes Global – Sunday 4th February 2024
URL:https://www.plv.org.au/event/physical-disability-awareness-day/2029-02-04/
CATEGORIES:Diversity, Equity and Inclusion,Health and Wellbeing
END:VEVENT
END:VCALENDAR