BEGIN:VCALENDAR
VERSION:2.0
PRODID:-//Public Libraries Victoria - ECPv6.15.20//NONSGML v1.0//EN
CALSCALE:GREGORIAN
METHOD:PUBLISH
X-ORIGINAL-URL:https://www.plv.org.au
X-WR-CALDESC:Events for Public Libraries Victoria
REFRESH-INTERVAL;VALUE=DURATION:PT1H
X-Robots-Tag:noindex
X-PUBLISHED-TTL:PT1H
BEGIN:VTIMEZONE
TZID:Australia/Melbourne
BEGIN:STANDARD
TZOFFSETFROM:+1100
TZOFFSETTO:+1000
TZNAME:AEST
DTSTART:20270403T160000
END:STANDARD
BEGIN:DAYLIGHT
TZOFFSETFROM:+1000
TZOFFSETTO:+1100
TZNAME:AEDT
DTSTART:20271002T160000
END:DAYLIGHT
BEGIN:STANDARD
TZOFFSETFROM:+1100
TZOFFSETTO:+1000
TZNAME:AEST
DTSTART:20280401T160000
END:STANDARD
BEGIN:DAYLIGHT
TZOFFSETFROM:+1000
TZOFFSETTO:+1100
TZNAME:AEDT
DTSTART:20280930T160000
END:DAYLIGHT
BEGIN:STANDARD
TZOFFSETFROM:+1100
TZOFFSETTO:+1000
TZNAME:AEST
DTSTART:20290331T160000
END:STANDARD
BEGIN:DAYLIGHT
TZOFFSETFROM:+1000
TZOFFSETTO:+1100
TZNAME:AEDT
DTSTART:20291006T160000
END:DAYLIGHT
END:VTIMEZONE
BEGIN:VEVENT
DTSTART;TZID=Australia/Melbourne:20280904T000000
DTEND;TZID=Australia/Melbourne:20280908T235959
DTSTAMP:20260420T204554
CREATED:20250815T065828Z
LAST-MODIFIED:20250815T065828Z
UID:10000946-1851638400-1852070399@www.plv.org.au
SUMMARY:Women's Health Week
DESCRIPTION:https://www.jeanhailes.org.au/womens-health-week
URL:https://www.plv.org.au/event/womens-health-week/2028-09-04/
CATEGORIES:Health and Wellbeing,Postive Ageing
END:VEVENT
BEGIN:VEVENT
DTSTART;TZID=Australia/Melbourne:20280904T000000
DTEND;TZID=Australia/Melbourne:20281004T005959
DTSTAMP:20260420T204554
CREATED:20251010T054611Z
LAST-MODIFIED:20251010T054611Z
UID:10001209-1851638400-1854233999@www.plv.org.au
SUMMARY:Footy Colours Day
DESCRIPTION:https://www.footycoloursday.com.au/
URL:https://www.plv.org.au/event/footy-colours-day/2028-09-04/
CATEGORIES:Health and Wellbeing
END:VEVENT
BEGIN:VEVENT
DTSTART;TZID=Australia/Melbourne:20280909T000000
DTEND;TZID=Australia/Melbourne:20280909T235959
DTSTAMP:20260420T204554
CREATED:20251010T054525Z
LAST-MODIFIED:20251010T054525Z
UID:10001204-1852070400-1852156799@www.plv.org.au
SUMMARY:World First Aid Day
DESCRIPTION:https://worldfirstaidday.org/
URL:https://www.plv.org.au/event/world-first-aid-day/2028-09-09/
CATEGORIES:Health and Wellbeing
END:VEVENT
BEGIN:VEVENT
DTSTART;TZID=Australia/Melbourne:20280911T000000
DTEND;TZID=Australia/Melbourne:20280917T235959
DTSTAMP:20260420T204554
CREATED:20251010T051438Z
LAST-MODIFIED:20251010T052111Z
UID:10001134-1852243200-1852847999@www.plv.org.au
SUMMARY:World Childless Week
DESCRIPTION:https://worldchildlessweek.net/
URL:https://www.plv.org.au/event/world-childless-week/2028-09-11/
CATEGORIES:Diversity, Equity and Inclusion,Health and Wellbeing
END:VEVENT
BEGIN:VEVENT
DTSTART;TZID=Australia/Melbourne:20280911T000000
DTEND;TZID=Australia/Melbourne:20280917T235959
DTSTAMP:20260420T204554
CREATED:20251010T052649Z
LAST-MODIFIED:20251010T052649Z
UID:10001157-1852243200-1852847999@www.plv.org.au
SUMMARY:Dementia Action Week
DESCRIPTION:https://www.dementia.org.au/get-involved/dementia-action-week
URL:https://www.plv.org.au/event/dementia-action-week/2028-09-11/
CATEGORIES:Diversity, Equity and Inclusion,Health and Wellbeing,Postive Ageing
END:VEVENT
BEGIN:VEVENT
DTSTART;TZID=Australia/Melbourne:20280914T000000
DTEND;TZID=Australia/Melbourne:20280914T235959
DTSTAMP:20260420T204554
CREATED:20250801T065149Z
LAST-MODIFIED:20250801T065149Z
UID:10000774-1852502400-1852588799@www.plv.org.au
SUMMARY:R U OK? Day
DESCRIPTION:https://www.ruok.org.au/
URL:https://www.plv.org.au/event/r-u-ok-day/2028-09-14/
CATEGORIES:Health and Wellbeing,Postive Ageing
END:VEVENT
BEGIN:VEVENT
DTSTART;TZID=Australia/Melbourne:20280915T000000
DTEND;TZID=Australia/Melbourne:20280915T235959
DTSTAMP:20260420T204554
CREATED:20251010T051855Z
LAST-MODIFIED:20251010T051855Z
UID:10001146-1852588800-1852675199@www.plv.org.au
SUMMARY:International Dot Day
DESCRIPTION:https://www.internationaldotday.org/
URL:https://www.plv.org.au/event/international-dot-day/2028-09-15/
CATEGORIES:Health and Wellbeing
END:VEVENT
BEGIN:VEVENT
DTSTART;TZID=Australia/Melbourne:20280915T000000
DTEND;TZID=Australia/Melbourne:20280915T235959
DTSTAMP:20260420T204554
CREATED:20251010T053202Z
LAST-MODIFIED:20251010T053202Z
UID:10001174-1852588800-1852675199@www.plv.org.au
SUMMARY:International Day of Democracy
DESCRIPTION:https://www.un.org/en/observances/democracy-day
URL:https://www.plv.org.au/event/international-day-of-democracy/2028-09-15/
CATEGORIES:Diversity, Equity and Inclusion,Health and Wellbeing,History
END:VEVENT
BEGIN:VEVENT
DTSTART;TZID=Australia/Melbourne:20280921T000000
DTEND;TZID=Australia/Melbourne:20280921T235959
DTSTAMP:20260420T204554
CREATED:20250829T062313Z
LAST-MODIFIED:20251010T054930Z
UID:10001024-1853107200-1853193599@www.plv.org.au
SUMMARY:International Day of Peace
DESCRIPTION:https://internationaldayofpeace.org/
URL:https://www.plv.org.au/event/international-day-of-peace/2028-09-21/
CATEGORIES:Health and Wellbeing
END:VEVENT
BEGIN:VEVENT
DTSTART;TZID=Australia/Melbourne:20281001T000000
DTEND;TZID=Australia/Melbourne:20281031T235959
DTSTAMP:20260420T204554
CREATED:20250829T062511Z
LAST-MODIFIED:20250829T062511Z
UID:10001030-1853971200-1856649599@www.plv.org.au
SUMMARY:Shocktober
DESCRIPTION:Shocktober | ambulance.vic.gov.au
URL:https://www.plv.org.au/event/shocktober/2028-10-01/
CATEGORIES:Health and Wellbeing
END:VEVENT
BEGIN:VEVENT
DTSTART;TZID=Australia/Melbourne:20281001T080000
DTEND;TZID=Australia/Melbourne:20281031T160000
DTSTAMP:20260420T204554
CREATED:20250815T065318Z
LAST-MODIFIED:20250815T065318Z
UID:10000934-1854000000-1856620800@www.plv.org.au
SUMMARY:Victorian Senior's Festival
DESCRIPTION:https://www.seniorsonline.vic.gov.au/festival
URL:https://www.plv.org.au/event/victorian-seniors-festival/2028-10-01/
CATEGORIES:Health and Wellbeing,Postive Ageing
END:VEVENT
BEGIN:VEVENT
DTSTART;TZID=Australia/Melbourne:20281004T000000
DTEND;TZID=Australia/Melbourne:20281103T225959
DTSTAMP:20260420T204554
CREATED:20251010T051908Z
LAST-MODIFIED:20251010T051908Z
UID:10001151-1854230400-1856905199@www.plv.org.au
SUMMARY:Breast Cancer Awareness Month
DESCRIPTION:National Breast Cancer Foundation (NBCF) | Donate Online Now
URL:https://www.plv.org.au/event/breast-cancer-awareness-month/2028-10-04/
CATEGORIES:Health and Wellbeing
END:VEVENT
BEGIN:VEVENT
DTSTART;TZID=Australia/Melbourne:20281008T000000
DTEND;TZID=Australia/Melbourne:20281014T235959
DTSTAMP:20260420T204554
CREATED:20251010T053952Z
LAST-MODIFIED:20251010T053952Z
UID:10001191-1854576000-1855180799@www.plv.org.au
SUMMARY:National Carers Week
DESCRIPTION:https://carersweek.com.au/
URL:https://www.plv.org.au/event/national-carers-week/2028-10-08/
CATEGORIES:Health and Wellbeing
END:VEVENT
BEGIN:VEVENT
DTSTART;TZID=Australia/Melbourne:20281010T000000
DTEND;TZID=Australia/Melbourne:20281010T235959
DTSTAMP:20260420T204554
CREATED:20250829T065411Z
LAST-MODIFIED:20251010T054910Z
UID:10001107-1854748800-1854835199@www.plv.org.au
SUMMARY:World Mental Health Day
DESCRIPTION:https://www.who.int/campaigns/world-mental-health-day
URL:https://www.plv.org.au/event/world-mental-health-day-2/2028-10-10/
CATEGORIES:Health and Wellbeing
END:VEVENT
BEGIN:VEVENT
DTSTART;TZID=Australia/Melbourne:20281011T000000
DTEND;TZID=Australia/Melbourne:20281011T235959
DTSTAMP:20260420T204554
CREATED:20251010T055654Z
LAST-MODIFIED:20251010T055654Z
UID:10001249-1854835200-1854921599@www.plv.org.au
SUMMARY:World Financial Planning Day
DESCRIPTION:https://worldfpday.org/
URL:https://www.plv.org.au/event/world-financial-planning-day/2028-10-11/
CATEGORIES:Diversity, Equity and Inclusion,Health and Wellbeing,Postive Ageing
END:VEVENT
BEGIN:VEVENT
DTSTART;VALUE=DATE:20281016
DTEND;VALUE=DATE:20281017
DTSTAMP:20260420T204554
CREATED:20240829T015026Z
LAST-MODIFIED:20240829T015026Z
UID:10000696-1855267200-1855353599@www.plv.org.au
SUMMARY:Restart a Heart Day
DESCRIPTION:https://www.restartaheart.net/
URL:https://www.plv.org.au/event/restart-a-heart-day/2028-10-16/
CATEGORIES:Health and Wellbeing
END:VEVENT
BEGIN:VEVENT
DTSTART;TZID=Australia/Melbourne:20281016T000000
DTEND;TZID=Australia/Melbourne:20281016T235959
DTSTAMP:20260420T204554
CREATED:20250829T063720Z
LAST-MODIFIED:20250829T063720Z
UID:10001058-1855267200-1855353599@www.plv.org.au
SUMMARY:World Food Day
DESCRIPTION:Home | World Food Day | Food and Agriculture Organization of the United Nations
URL:https://www.plv.org.au/event/world-food-day/2028-10-16/
CATEGORIES:Diversity, Equity and Inclusion,Health and Wellbeing
END:VEVENT
BEGIN:VEVENT
DTSTART;TZID=Australia/Melbourne:20281016T000000
DTEND;TZID=Australia/Melbourne:20281022T235959
DTSTAMP:20260420T204554
CREATED:20251010T051840Z
LAST-MODIFIED:20251010T051840Z
UID:10001141-1855267200-1855871999@www.plv.org.au
SUMMARY:Get Online Week
DESCRIPTION:Get Online Week
URL:https://www.plv.org.au/event/get-online-week/2028-10-16/
CATEGORIES:Diversity, Equity and Inclusion,Health and Wellbeing,Postive Ageing
END:VEVENT
BEGIN:VEVENT
DTSTART;TZID=Australia/Melbourne:20281017T000000
DTEND;TZID=Australia/Melbourne:20281017T235959
DTSTAMP:20260420T204554
CREATED:20250829T064004Z
LAST-MODIFIED:20250829T064004Z
UID:10001069-1855353600-1855439999@www.plv.org.au
SUMMARY:International Day for the Eradication of Poverty
DESCRIPTION:International Day for the Eradication of Poverty | United Nations
URL:https://www.plv.org.au/event/international-day-for-the-eradication-of-poverty/2028-10-17/
CATEGORIES:Diversity, Equity and Inclusion,Health and Wellbeing
END:VEVENT
BEGIN:VEVENT
DTSTART;TZID=Australia/Melbourne:20281018T000000
DTEND;TZID=Australia/Melbourne:20281018T235959
DTSTAMP:20260420T204554
CREATED:20250829T064221Z
LAST-MODIFIED:20250829T064221Z
UID:10001080-1855440000-1855526399@www.plv.org.au
SUMMARY:World Menopause Day
DESCRIPTION:World Menopause Day – Australasian Menopause Society
URL:https://www.plv.org.au/event/world-menopause-day/2028-10-18/
CATEGORIES:Health and Wellbeing
END:VEVENT
BEGIN:VEVENT
DTSTART;TZID=Australia/Melbourne:20281020T000000
DTEND;TZID=Australia/Melbourne:20281020T235959
DTSTAMP:20260420T204554
CREATED:20250829T064826Z
LAST-MODIFIED:20250829T064826Z
UID:10001096-1855612800-1855699199@www.plv.org.au
SUMMARY:International Mastocytosis and Mast Cell Diseases Awareness Day
DESCRIPTION:Awareness Day – The Australasian Mastocytosis Society
URL:https://www.plv.org.au/event/international-mastocytosis-and-mast-cell-diseases-awareness-day/2028-10-20/
CATEGORIES:Health and Wellbeing
END:VEVENT
BEGIN:VEVENT
DTSTART;TZID=Australia/Melbourne:20281024T000000
DTEND;TZID=Australia/Melbourne:20281024T235959
DTSTAMP:20260420T204554
CREATED:20251024T055355Z
LAST-MODIFIED:20251024T055355Z
UID:10001369-1855958400-1856044799@www.plv.org.au
SUMMARY:United Nations Day
DESCRIPTION:https://www.un.org/en/observances/un-day
URL:https://www.plv.org.au/event/united-nations-day/2028-10-24/
CATEGORIES:Diversity, Equity and Inclusion,Health and Wellbeing
END:VEVENT
BEGIN:VEVENT
DTSTART;TZID=Australia/Melbourne:20281026T000000
DTEND;TZID=Australia/Melbourne:20281026T235959
DTSTAMP:20260420T204554
CREATED:20251024T052202Z
LAST-MODIFIED:20251024T052202Z
UID:10001296-1856131200-1856217599@www.plv.org.au
SUMMARY:Intersex Awareness Day
DESCRIPTION:https://ihra.org.au/
URL:https://www.plv.org.au/event/intersex-awareness-day/2028-10-26/
CATEGORIES:Diversity, Equity and Inclusion,Health and Wellbeing
END:VEVENT
BEGIN:VEVENT
DTSTART;TZID=Australia/Melbourne:20281101T000000
DTEND;TZID=Australia/Melbourne:20281101T235959
DTSTAMP:20260420T204554
CREATED:20251121T055404Z
LAST-MODIFIED:20251121T055404Z
UID:10001430-1856649600-1856735999@www.plv.org.au
SUMMARY:World Vegan Day
DESCRIPTION:https://vegan-day.org/en/
URL:https://www.plv.org.au/event/world-vegan-day/2028-11-01/
CATEGORIES:Health and Wellbeing,Sustainability
END:VEVENT
BEGIN:VEVENT
DTSTART;TZID=Australia/Melbourne:20281101T000000
DTEND;TZID=Australia/Melbourne:20281130T235959
DTSTAMP:20260420T204554
CREATED:20251121T055216Z
LAST-MODIFIED:20251121T055216Z
UID:10001424-1856649600-1859241599@www.plv.org.au
SUMMARY:Movember
DESCRIPTION:https://au.movember.com/
URL:https://www.plv.org.au/event/movember/2028-11-01/
CATEGORIES:Health and Wellbeing,Quirky / Fun
END:VEVENT
BEGIN:VEVENT
DTSTART;TZID=Australia/Melbourne:20281108T000000
DTEND;TZID=Australia/Melbourne:20281108T235959
DTSTAMP:20260420T204554
CREATED:20250829T061432Z
LAST-MODIFIED:20250829T061432Z
UID:10000997-1857254400-1857340799@www.plv.org.au
SUMMARY:World Kindness Day
DESCRIPTION:https://www.staykind.com.au/who-we-are/what-we-do/world-kindness-day/
URL:https://www.plv.org.au/event/world-kindness-day/2028-11-08/
CATEGORIES:Health and Wellbeing
END:VEVENT
BEGIN:VEVENT
DTSTART;TZID=Australia/Melbourne:20281114T000000
DTEND;TZID=Australia/Melbourne:20281114T235959
DTSTAMP:20260420T204554
CREATED:20250829T063147Z
LAST-MODIFIED:20250829T063147Z
UID:10001047-1857772800-1857859199@www.plv.org.au
SUMMARY:World Diabetes Day
DESCRIPTION:https://www.un.org/en/observances/diabetes-day
URL:https://www.plv.org.au/event/world-diabetes-day/2028-11-14/
CATEGORIES:Health and Wellbeing
END:VEVENT
BEGIN:VEVENT
DTSTART;TZID=Australia/Melbourne:20281119T000000
DTEND;TZID=Australia/Melbourne:20281119T235959
DTSTAMP:20260420T204554
CREATED:20251024T051050Z
LAST-MODIFIED:20251024T051050Z
UID:10001273-1858204800-1858291199@www.plv.org.au
SUMMARY:World Toilet Day
DESCRIPTION:https://www.un.org/en/observances/toilet-day
URL:https://www.plv.org.au/event/world-toilet-day/2028-11-19/
CATEGORIES:Diversity, Equity and Inclusion,Families and Children,Health and Wellbeing,Quirky / Fun
END:VEVENT
BEGIN:VEVENT
DTSTART;TZID=Australia/Melbourne:20281119T000000
DTEND;TZID=Australia/Melbourne:20281119T235959
DTSTAMP:20260420T204554
CREATED:20251121T055525Z
LAST-MODIFIED:20251121T055525Z
UID:10001436-1858204800-1858291199@www.plv.org.au
SUMMARY:International Men's Day
DESCRIPTION:https://internationalmensday.com/
URL:https://www.plv.org.au/event/international-mens-day/2028-11-19/
CATEGORIES:Health and Wellbeing
END:VEVENT
BEGIN:VEVENT
DTSTART;TZID=Australia/Melbourne:20281125T000000
DTEND;TZID=Australia/Melbourne:20281125T235959
DTSTAMP:20260420T204554
CREATED:20250829T062034Z
LAST-MODIFIED:20250829T062034Z
UID:10001019-1858723200-1858809599@www.plv.org.au
SUMMARY:International Day for the Elimination of Violence Against Women
DESCRIPTION:https://www.un.org/en/observances/ending-violence-against-women-day
URL:https://www.plv.org.au/event/international-day-for-the-elimination-of-violence-against-women/2028-11-25/
CATEGORIES:Health and Wellbeing
END:VEVENT
END:VCALENDAR