BEGIN:VCALENDAR
VERSION:2.0
PRODID:-//Public Libraries Victoria - ECPv6.15.20//NONSGML v1.0//EN
CALSCALE:GREGORIAN
METHOD:PUBLISH
X-ORIGINAL-URL:https://www.plv.org.au
X-WR-CALDESC:Events for Public Libraries Victoria
REFRESH-INTERVAL;VALUE=DURATION:PT1H
X-Robots-Tag:noindex
X-PUBLISHED-TTL:PT1H
BEGIN:VTIMEZONE
TZID:Australia/Melbourne
BEGIN:STANDARD
TZOFFSETFROM:+1100
TZOFFSETTO:+1000
TZNAME:AEST
DTSTART:20280401T160000
END:STANDARD
BEGIN:DAYLIGHT
TZOFFSETFROM:+1000
TZOFFSETTO:+1100
TZNAME:AEDT
DTSTART:20280930T160000
END:DAYLIGHT
BEGIN:STANDARD
TZOFFSETFROM:+1100
TZOFFSETTO:+1000
TZNAME:AEST
DTSTART:20290331T160000
END:STANDARD
BEGIN:DAYLIGHT
TZOFFSETFROM:+1000
TZOFFSETTO:+1100
TZNAME:AEDT
DTSTART:20291006T160000
END:DAYLIGHT
BEGIN:STANDARD
TZOFFSETFROM:+1100
TZOFFSETTO:+1000
TZNAME:AEST
DTSTART:20300406T160000
END:STANDARD
BEGIN:DAYLIGHT
TZOFFSETFROM:+1000
TZOFFSETTO:+1100
TZNAME:AEDT
DTSTART:20301005T160000
END:DAYLIGHT
BEGIN:STANDARD
TZOFFSETFROM:+1100
TZOFFSETTO:+1000
TZNAME:AEST
DTSTART:20310405T160000
END:STANDARD
BEGIN:DAYLIGHT
TZOFFSETFROM:+1000
TZOFFSETTO:+1100
TZNAME:AEDT
DTSTART:20311004T160000
END:DAYLIGHT
END:VTIMEZONE
BEGIN:VEVENT
DTSTART;TZID=Australia/Melbourne:20290315T000000
DTEND;TZID=Australia/Melbourne:20290315T235959
DTSTAMP:20260420T234329
CREATED:20250829T064521Z
LAST-MODIFIED:20251010T054956Z
UID:10001086-1868227200-1868313599@www.plv.org.au
SUMMARY:National Close the Gap Day
DESCRIPTION:CLOSE THE GAP
URL:https://www.plv.org.au/event/national-close-the-gap-day/2029-03-15/
CATEGORIES:Diversity, Equity and Inclusion,First Nations
END:VEVENT
BEGIN:VEVENT
DTSTART;TZID=Australia/Melbourne:20290415T000000
DTEND;TZID=Australia/Melbourne:20290415T235959
DTSTAMP:20260420T234329
CREATED:20251107T055138Z
LAST-MODIFIED:20251107T055138Z
UID:10001386-1870905600-1870991999@www.plv.org.au
SUMMARY:World Art Day
DESCRIPTION:https://www.unesco.org/en/days/world-art
URL:https://www.plv.org.au/event/world-art-day/2029-04-15/
CATEGORIES:Families and Children,First Nations,Health and Wellbeing,Postive Ageing,STEAM,Youth
END:VEVENT
BEGIN:VEVENT
DTSTART;TZID=Australia/Melbourne:20290526T000000
DTEND;TZID=Australia/Melbourne:20290526T235959
DTSTAMP:20260420T234329
CREATED:20250815T063450Z
LAST-MODIFIED:20250815T063450Z
UID:10000872-1874448000-1874534399@www.plv.org.au
SUMMARY:National Sorry Day
DESCRIPTION:https://healingfoundation.org.au/sorryday/
URL:https://www.plv.org.au/event/national-sorry-day/2029-05-26/
CATEGORIES:Diversity, Equity and Inclusion,First Nations
END:VEVENT
BEGIN:VEVENT
DTSTART;TZID=Australia/Melbourne:20290603T000000
DTEND;TZID=Australia/Melbourne:20290603T235959
DTSTAMP:20260420T234329
CREATED:20251024T054631Z
LAST-MODIFIED:20251024T054631Z
UID:10001353-1875139200-1875225599@www.plv.org.au
SUMMARY:Mabo Day
DESCRIPTION:https://www.reconciliation.org.au/commemorating-mabo-day/
URL:https://www.plv.org.au/event/mabo-day/2029-06-03/
CATEGORIES:Diversity, Equity and Inclusion,First Nations,History
END:VEVENT
BEGIN:VEVENT
DTSTART;VALUE=DATE:20290701
DTEND;VALUE=DATE:20290709
DTSTAMP:20260420T234329
CREATED:20240321T051917Z
LAST-MODIFIED:20240801T042251Z
UID:10000600-1877558400-1878249599@www.plv.org.au
SUMMARY:NAIDOC Week
DESCRIPTION:https://www.naidoc.org.au/
URL:https://www.plv.org.au/event/naidoc-week-4/2029-07-01/
CATEGORIES:Diversity, Equity and Inclusion,First Nations,History,Reader Development
END:VEVENT
BEGIN:VEVENT
DTSTART;TZID=Australia/Melbourne:20290809T000000
DTEND;TZID=Australia/Melbourne:20290809T235959
DTSTAMP:20260420T234329
CREATED:20250801T070114Z
LAST-MODIFIED:20250801T070114Z
UID:10000810-1880928000-1881014399@www.plv.org.au
SUMMARY:International Day of the World's Indigenous Peoples
DESCRIPTION:https://www.un.org/en/observances/indigenous-day
URL:https://www.plv.org.au/event/international-day-of-the-worlds-indigenous-peoples/2029-08-09/
CATEGORIES:First Nations
END:VEVENT
BEGIN:VEVENT
DTSTART;TZID=Australia/Melbourne:20290905T000000
DTEND;TZID=Australia/Melbourne:20290905T235959
DTSTAMP:20260420T234329
CREATED:20250815T070236Z
LAST-MODIFIED:20250815T070236Z
UID:10000959-1883260800-1883347199@www.plv.org.au
SUMMARY:Indigenous Literacy Day
DESCRIPTION:https://www.ilf.org.au/ild
URL:https://www.plv.org.au/event/indigenous-literacy-day/2029-09-05/
CATEGORIES:First Nations
END:VEVENT
BEGIN:VEVENT
DTSTART;TZID=Australia/Melbourne:20300321T000000
DTEND;TZID=Australia/Melbourne:20300321T235959
DTSTAMP:20260420T234329
CREATED:20250829T064521Z
LAST-MODIFIED:20251010T054956Z
UID:10001087-1900281600-1900367999@www.plv.org.au
SUMMARY:National Close the Gap Day
DESCRIPTION:CLOSE THE GAP
URL:https://www.plv.org.au/event/national-close-the-gap-day/2030-03-21/
CATEGORIES:Diversity, Equity and Inclusion,First Nations
END:VEVENT
BEGIN:VEVENT
DTSTART;TZID=Australia/Melbourne:20300415T000000
DTEND;TZID=Australia/Melbourne:20300415T235959
DTSTAMP:20260420T234329
CREATED:20251107T055138Z
LAST-MODIFIED:20251107T055138Z
UID:10001387-1902441600-1902527999@www.plv.org.au
SUMMARY:World Art Day
DESCRIPTION:https://www.unesco.org/en/days/world-art
URL:https://www.plv.org.au/event/world-art-day/2030-04-15/
CATEGORIES:Families and Children,First Nations,Health and Wellbeing,Postive Ageing,STEAM,Youth
END:VEVENT
BEGIN:VEVENT
DTSTART;TZID=Australia/Melbourne:20300526T000000
DTEND;TZID=Australia/Melbourne:20300526T235959
DTSTAMP:20260420T234329
CREATED:20250815T063450Z
LAST-MODIFIED:20250815T063450Z
UID:10000873-1905984000-1906070399@www.plv.org.au
SUMMARY:National Sorry Day
DESCRIPTION:https://healingfoundation.org.au/sorryday/
URL:https://www.plv.org.au/event/national-sorry-day/2030-05-26/
CATEGORIES:Diversity, Equity and Inclusion,First Nations
END:VEVENT
BEGIN:VEVENT
DTSTART;TZID=Australia/Melbourne:20300603T000000
DTEND;TZID=Australia/Melbourne:20300603T235959
DTSTAMP:20260420T234329
CREATED:20251024T054631Z
LAST-MODIFIED:20251024T054631Z
UID:10001354-1906675200-1906761599@www.plv.org.au
SUMMARY:Mabo Day
DESCRIPTION:https://www.reconciliation.org.au/commemorating-mabo-day/
URL:https://www.plv.org.au/event/mabo-day/2030-06-03/
CATEGORIES:Diversity, Equity and Inclusion,First Nations,History
END:VEVENT
END:VCALENDAR