BEGIN:VCALENDAR
VERSION:2.0
PRODID:-//Public Libraries Victoria - ECPv6.15.20//NONSGML v1.0//EN
CALSCALE:GREGORIAN
METHOD:PUBLISH
X-WR-CALNAME:Public Libraries Victoria
X-ORIGINAL-URL:https://www.plv.org.au
X-WR-CALDESC:Events for Public Libraries Victoria
REFRESH-INTERVAL;VALUE=DURATION:PT1H
X-Robots-Tag:noindex
X-PUBLISHED-TTL:PT1H
BEGIN:VTIMEZONE
TZID:Australia/Melbourne
BEGIN:STANDARD
TZOFFSETFROM:+1100
TZOFFSETTO:+1000
TZNAME:AEST
DTSTART:20250405T160000
END:STANDARD
BEGIN:DAYLIGHT
TZOFFSETFROM:+1000
TZOFFSETTO:+1100
TZNAME:AEDT
DTSTART:20251004T160000
END:DAYLIGHT
BEGIN:STANDARD
TZOFFSETFROM:+1100
TZOFFSETTO:+1000
TZNAME:AEST
DTSTART:20260404T160000
END:STANDARD
BEGIN:DAYLIGHT
TZOFFSETFROM:+1000
TZOFFSETTO:+1100
TZNAME:AEDT
DTSTART:20261003T160000
END:DAYLIGHT
BEGIN:STANDARD
TZOFFSETFROM:+1100
TZOFFSETTO:+1000
TZNAME:AEST
DTSTART:20270403T160000
END:STANDARD
BEGIN:DAYLIGHT
TZOFFSETFROM:+1000
TZOFFSETTO:+1100
TZNAME:AEDT
DTSTART:20271002T160000
END:DAYLIGHT
BEGIN:STANDARD
TZOFFSETFROM:+1100
TZOFFSETTO:+1000
TZNAME:AEST
DTSTART:20280401T160000
END:STANDARD
BEGIN:DAYLIGHT
TZOFFSETFROM:+1000
TZOFFSETTO:+1100
TZNAME:AEDT
DTSTART:20280930T160000
END:DAYLIGHT
BEGIN:STANDARD
TZOFFSETFROM:+1100
TZOFFSETTO:+1000
TZNAME:AEST
DTSTART:20290331T160000
END:STANDARD
BEGIN:DAYLIGHT
TZOFFSETFROM:+1000
TZOFFSETTO:+1100
TZNAME:AEDT
DTSTART:20291006T160000
END:DAYLIGHT
BEGIN:STANDARD
TZOFFSETFROM:+1100
TZOFFSETTO:+1000
TZNAME:AEST
DTSTART:20300406T160000
END:STANDARD
BEGIN:DAYLIGHT
TZOFFSETFROM:+1000
TZOFFSETTO:+1100
TZNAME:AEDT
DTSTART:20301005T160000
END:DAYLIGHT
END:VTIMEZONE
BEGIN:VEVENT
DTSTART;VALUE=DATE:20260525
DTEND;VALUE=DATE:20260602
DTSTAMP:20260424T180332
CREATED:20240228T052348Z
LAST-MODIFIED:20240228T052348Z
UID:10000465-1779667200-1780358399@www.plv.org.au
SUMMARY:Reconciliation Week
DESCRIPTION:National Reconciliation Week
URL:https://www.plv.org.au/event/reconciliation-week/2026-05-25/
CATEGORIES:First Nations
END:VEVENT
BEGIN:VEVENT
DTSTART;TZID=Australia/Melbourne:20260526T000000
DTEND;TZID=Australia/Melbourne:20260526T235959
DTSTAMP:20260424T180332
CREATED:20250815T063450Z
LAST-MODIFIED:20250815T063450Z
UID:10000869-1779753600-1779839999@www.plv.org.au
SUMMARY:National Sorry Day
DESCRIPTION:https://healingfoundation.org.au/sorryday/
URL:https://www.plv.org.au/event/national-sorry-day/2026-05-26/
CATEGORIES:Diversity, Equity and Inclusion,First Nations
END:VEVENT
BEGIN:VEVENT
DTSTART;TZID=Australia/Melbourne:20260603T000000
DTEND;TZID=Australia/Melbourne:20260603T235959
DTSTAMP:20260424T180332
CREATED:20251024T054631Z
LAST-MODIFIED:20251024T054631Z
UID:10001350-1780444800-1780531199@www.plv.org.au
SUMMARY:Mabo Day
DESCRIPTION:https://www.reconciliation.org.au/commemorating-mabo-day/
URL:https://www.plv.org.au/event/mabo-day/2026-06-03/
CATEGORIES:Diversity, Equity and Inclusion,First Nations,History
END:VEVENT
BEGIN:VEVENT
DTSTART;VALUE=DATE:20260705
DTEND;VALUE=DATE:20260713
DTSTAMP:20260424T180332
CREATED:20240321T051917Z
LAST-MODIFIED:20240801T042251Z
UID:10000500-1783209600-1783900799@www.plv.org.au
SUMMARY:NAIDOC Week
DESCRIPTION:https://www.naidoc.org.au/
URL:https://www.plv.org.au/event/naidoc-week-4/2026-07-05/
CATEGORIES:Diversity, Equity and Inclusion,First Nations,History,Reader Development
END:VEVENT
BEGIN:VEVENT
DTSTART;TZID=Australia/Melbourne:20260809T000000
DTEND;TZID=Australia/Melbourne:20260809T235959
DTSTAMP:20260424T180332
CREATED:20250801T070114Z
LAST-MODIFIED:20250801T070114Z
UID:10000807-1786233600-1786319999@www.plv.org.au
SUMMARY:International Day of the World's Indigenous Peoples
DESCRIPTION:https://www.un.org/en/observances/indigenous-day
URL:https://www.plv.org.au/event/international-day-of-the-worlds-indigenous-peoples/2026-08-09/
CATEGORIES:First Nations
END:VEVENT
BEGIN:VEVENT
DTSTART;TZID=Australia/Melbourne:20260902T000000
DTEND;TZID=Australia/Melbourne:20260902T235959
DTSTAMP:20260424T180332
CREATED:20250815T070236Z
LAST-MODIFIED:20250815T070236Z
UID:10000956-1788307200-1788393599@www.plv.org.au
SUMMARY:Indigenous Literacy Day
DESCRIPTION:https://www.ilf.org.au/ild
URL:https://www.plv.org.au/event/indigenous-literacy-day/2026-09-02/
CATEGORIES:First Nations
END:VEVENT
BEGIN:VEVENT
DTSTART;VALUE=DATE:20270213
DTEND;VALUE=DATE:20270214
DTSTAMP:20260424T180332
CREATED:20240822T044146Z
LAST-MODIFIED:20240822T044146Z
UID:10000617-1802476800-1802563199@www.plv.org.au
SUMMARY:National Apology Anniversary
DESCRIPTION:https://healingfoundation.org.au/apology-2/
URL:https://www.plv.org.au/event/national-apology-anniversary/2027-02-13/
CATEGORIES:First Nations
END:VEVENT
BEGIN:VEVENT
DTSTART;TZID=Australia/Melbourne:20270318T000000
DTEND;TZID=Australia/Melbourne:20270318T235959
DTSTAMP:20260424T180332
CREATED:20250829T064521Z
LAST-MODIFIED:20251010T054956Z
UID:10001084-1805328000-1805414399@www.plv.org.au
SUMMARY:National Close the Gap Day
DESCRIPTION:CLOSE THE GAP
URL:https://www.plv.org.au/event/national-close-the-gap-day/2027-03-18/
CATEGORIES:Diversity, Equity and Inclusion,First Nations
END:VEVENT
BEGIN:VEVENT
DTSTART;TZID=Australia/Melbourne:20270415T000000
DTEND;TZID=Australia/Melbourne:20270415T235959
DTSTAMP:20260424T180332
CREATED:20251107T055138Z
LAST-MODIFIED:20251107T055138Z
UID:10001384-1807747200-1807833599@www.plv.org.au
SUMMARY:World Art Day
DESCRIPTION:https://www.unesco.org/en/days/world-art
URL:https://www.plv.org.au/event/world-art-day/2027-04-15/
CATEGORIES:Families and Children,First Nations,Health and Wellbeing,Postive Ageing,STEAM,Youth
END:VEVENT
BEGIN:VEVENT
DTSTART;VALUE=DATE:20270524
DTEND;VALUE=DATE:20270601
DTSTAMP:20260424T180332
CREATED:20240228T052348Z
LAST-MODIFIED:20240228T052348Z
UID:10000466-1811116800-1811807999@www.plv.org.au
SUMMARY:Reconciliation Week
DESCRIPTION:National Reconciliation Week
URL:https://www.plv.org.au/event/reconciliation-week/2027-05-24/
CATEGORIES:First Nations
END:VEVENT
BEGIN:VEVENT
DTSTART;TZID=Australia/Melbourne:20270526T000000
DTEND;TZID=Australia/Melbourne:20270526T235959
DTSTAMP:20260424T180332
CREATED:20250815T063450Z
LAST-MODIFIED:20250815T063450Z
UID:10000870-1811289600-1811375999@www.plv.org.au
SUMMARY:National Sorry Day
DESCRIPTION:https://healingfoundation.org.au/sorryday/
URL:https://www.plv.org.au/event/national-sorry-day/2027-05-26/
CATEGORIES:Diversity, Equity and Inclusion,First Nations
END:VEVENT
BEGIN:VEVENT
DTSTART;TZID=Australia/Melbourne:20270603T000000
DTEND;TZID=Australia/Melbourne:20270603T235959
DTSTAMP:20260424T180332
CREATED:20251024T054631Z
LAST-MODIFIED:20251024T054631Z
UID:10001351-1811980800-1812067199@www.plv.org.au
SUMMARY:Mabo Day
DESCRIPTION:https://www.reconciliation.org.au/commemorating-mabo-day/
URL:https://www.plv.org.au/event/mabo-day/2027-06-03/
CATEGORIES:Diversity, Equity and Inclusion,First Nations,History
END:VEVENT
BEGIN:VEVENT
DTSTART;VALUE=DATE:20270704
DTEND;VALUE=DATE:20270712
DTSTAMP:20260424T180332
CREATED:20240321T051917Z
LAST-MODIFIED:20240801T042251Z
UID:10000501-1814659200-1815350399@www.plv.org.au
SUMMARY:NAIDOC Week
DESCRIPTION:https://www.naidoc.org.au/
URL:https://www.plv.org.au/event/naidoc-week-4/2027-07-04/
CATEGORIES:Diversity, Equity and Inclusion,First Nations,History,Reader Development
END:VEVENT
BEGIN:VEVENT
DTSTART;TZID=Australia/Melbourne:20270809T000000
DTEND;TZID=Australia/Melbourne:20270809T235959
DTSTAMP:20260424T180332
CREATED:20250801T070114Z
LAST-MODIFIED:20250801T070114Z
UID:10000808-1817769600-1817855999@www.plv.org.au
SUMMARY:International Day of the World's Indigenous Peoples
DESCRIPTION:https://www.un.org/en/observances/indigenous-day
URL:https://www.plv.org.au/event/international-day-of-the-worlds-indigenous-peoples/2027-08-09/
CATEGORIES:First Nations
END:VEVENT
BEGIN:VEVENT
DTSTART;TZID=Australia/Melbourne:20270901T000000
DTEND;TZID=Australia/Melbourne:20270901T235959
DTSTAMP:20260424T180332
CREATED:20250815T070236Z
LAST-MODIFIED:20250815T070236Z
UID:10000957-1819756800-1819843199@www.plv.org.au
SUMMARY:Indigenous Literacy Day
DESCRIPTION:https://www.ilf.org.au/ild
URL:https://www.plv.org.au/event/indigenous-literacy-day/2027-09-01/
CATEGORIES:First Nations
END:VEVENT
BEGIN:VEVENT
DTSTART;VALUE=DATE:20280213
DTEND;VALUE=DATE:20280214
DTSTAMP:20260424T180332
CREATED:20240822T044146Z
LAST-MODIFIED:20240822T044146Z
UID:10000618-1834012800-1834099199@www.plv.org.au
SUMMARY:National Apology Anniversary
DESCRIPTION:https://healingfoundation.org.au/apology-2/
URL:https://www.plv.org.au/event/national-apology-anniversary/2028-02-13/
CATEGORIES:First Nations
END:VEVENT
BEGIN:VEVENT
DTSTART;TZID=Australia/Melbourne:20280316T000000
DTEND;TZID=Australia/Melbourne:20280316T235959
DTSTAMP:20260424T180332
CREATED:20250829T064521Z
LAST-MODIFIED:20251010T054956Z
UID:10001085-1836777600-1836863999@www.plv.org.au
SUMMARY:National Close the Gap Day
DESCRIPTION:CLOSE THE GAP
URL:https://www.plv.org.au/event/national-close-the-gap-day/2028-03-16/
CATEGORIES:Diversity, Equity and Inclusion,First Nations
END:VEVENT
BEGIN:VEVENT
DTSTART;TZID=Australia/Melbourne:20280415T000000
DTEND;TZID=Australia/Melbourne:20280415T235959
DTSTAMP:20260424T180332
CREATED:20251107T055138Z
LAST-MODIFIED:20251107T055138Z
UID:10001385-1839369600-1839455999@www.plv.org.au
SUMMARY:World Art Day
DESCRIPTION:https://www.unesco.org/en/days/world-art
URL:https://www.plv.org.au/event/world-art-day/2028-04-15/
CATEGORIES:Families and Children,First Nations,Health and Wellbeing,Postive Ageing,STEAM,Youth
END:VEVENT
BEGIN:VEVENT
DTSTART;VALUE=DATE:20280522
DTEND;VALUE=DATE:20280530
DTSTAMP:20260424T180332
CREATED:20240228T052348Z
LAST-MODIFIED:20240228T052348Z
UID:10000467-1842566400-1843257599@www.plv.org.au
SUMMARY:Reconciliation Week
DESCRIPTION:National Reconciliation Week
URL:https://www.plv.org.au/event/reconciliation-week/2028-05-22/
CATEGORIES:First Nations
END:VEVENT
BEGIN:VEVENT
DTSTART;TZID=Australia/Melbourne:20280526T000000
DTEND;TZID=Australia/Melbourne:20280526T235959
DTSTAMP:20260424T180332
CREATED:20250815T063450Z
LAST-MODIFIED:20250815T063450Z
UID:10000871-1842912000-1842998399@www.plv.org.au
SUMMARY:National Sorry Day
DESCRIPTION:https://healingfoundation.org.au/sorryday/
URL:https://www.plv.org.au/event/national-sorry-day/2028-05-26/
CATEGORIES:Diversity, Equity and Inclusion,First Nations
END:VEVENT
BEGIN:VEVENT
DTSTART;TZID=Australia/Melbourne:20280603T000000
DTEND;TZID=Australia/Melbourne:20280603T235959
DTSTAMP:20260424T180332
CREATED:20251024T054631Z
LAST-MODIFIED:20251024T054631Z
UID:10001352-1843603200-1843689599@www.plv.org.au
SUMMARY:Mabo Day
DESCRIPTION:https://www.reconciliation.org.au/commemorating-mabo-day/
URL:https://www.plv.org.au/event/mabo-day/2028-06-03/
CATEGORIES:Diversity, Equity and Inclusion,First Nations,History
END:VEVENT
BEGIN:VEVENT
DTSTART;VALUE=DATE:20280702
DTEND;VALUE=DATE:20280710
DTSTAMP:20260424T180332
CREATED:20240321T051917Z
LAST-MODIFIED:20240801T042251Z
UID:10000502-1846108800-1846799999@www.plv.org.au
SUMMARY:NAIDOC Week
DESCRIPTION:https://www.naidoc.org.au/
URL:https://www.plv.org.au/event/naidoc-week-4/2028-07-02/
CATEGORIES:Diversity, Equity and Inclusion,First Nations,History,Reader Development
END:VEVENT
BEGIN:VEVENT
DTSTART;TZID=Australia/Melbourne:20280809T000000
DTEND;TZID=Australia/Melbourne:20280809T235959
DTSTAMP:20260424T180332
CREATED:20250801T070114Z
LAST-MODIFIED:20250801T070114Z
UID:10000809-1849392000-1849478399@www.plv.org.au
SUMMARY:International Day of the World's Indigenous Peoples
DESCRIPTION:https://www.un.org/en/observances/indigenous-day
URL:https://www.plv.org.au/event/international-day-of-the-worlds-indigenous-peoples/2028-08-09/
CATEGORIES:First Nations
END:VEVENT
BEGIN:VEVENT
DTSTART;TZID=Australia/Melbourne:20280906T000000
DTEND;TZID=Australia/Melbourne:20280906T235959
DTSTAMP:20260424T180332
CREATED:20250815T070236Z
LAST-MODIFIED:20250815T070236Z
UID:10000958-1851811200-1851897599@www.plv.org.au
SUMMARY:Indigenous Literacy Day
DESCRIPTION:https://www.ilf.org.au/ild
URL:https://www.plv.org.au/event/indigenous-literacy-day/2028-09-06/
CATEGORIES:First Nations
END:VEVENT
BEGIN:VEVENT
DTSTART;VALUE=DATE:20290213
DTEND;VALUE=DATE:20290214
DTSTAMP:20260424T180332
CREATED:20240822T044146Z
LAST-MODIFIED:20240822T044146Z
UID:10000619-1865635200-1865721599@www.plv.org.au
SUMMARY:National Apology Anniversary
DESCRIPTION:https://healingfoundation.org.au/apology-2/
URL:https://www.plv.org.au/event/national-apology-anniversary/2029-02-13/
CATEGORIES:First Nations
END:VEVENT
BEGIN:VEVENT
DTSTART;TZID=Australia/Melbourne:20290315T000000
DTEND;TZID=Australia/Melbourne:20290315T235959
DTSTAMP:20260424T180332
CREATED:20250829T064521Z
LAST-MODIFIED:20251010T054956Z
UID:10001086-1868227200-1868313599@www.plv.org.au
SUMMARY:National Close the Gap Day
DESCRIPTION:CLOSE THE GAP
URL:https://www.plv.org.au/event/national-close-the-gap-day/2029-03-15/
CATEGORIES:Diversity, Equity and Inclusion,First Nations
END:VEVENT
BEGIN:VEVENT
DTSTART;TZID=Australia/Melbourne:20290415T000000
DTEND;TZID=Australia/Melbourne:20290415T235959
DTSTAMP:20260424T180332
CREATED:20251107T055138Z
LAST-MODIFIED:20251107T055138Z
UID:10001386-1870905600-1870991999@www.plv.org.au
SUMMARY:World Art Day
DESCRIPTION:https://www.unesco.org/en/days/world-art
URL:https://www.plv.org.au/event/world-art-day/2029-04-15/
CATEGORIES:Families and Children,First Nations,Health and Wellbeing,Postive Ageing,STEAM,Youth
END:VEVENT
BEGIN:VEVENT
DTSTART;TZID=Australia/Melbourne:20290526T000000
DTEND;TZID=Australia/Melbourne:20290526T235959
DTSTAMP:20260424T180332
CREATED:20250815T063450Z
LAST-MODIFIED:20250815T063450Z
UID:10000872-1874448000-1874534399@www.plv.org.au
SUMMARY:National Sorry Day
DESCRIPTION:https://healingfoundation.org.au/sorryday/
URL:https://www.plv.org.au/event/national-sorry-day/2029-05-26/
CATEGORIES:Diversity, Equity and Inclusion,First Nations
END:VEVENT
BEGIN:VEVENT
DTSTART;TZID=Australia/Melbourne:20290603T000000
DTEND;TZID=Australia/Melbourne:20290603T235959
DTSTAMP:20260424T180332
CREATED:20251024T054631Z
LAST-MODIFIED:20251024T054631Z
UID:10001353-1875139200-1875225599@www.plv.org.au
SUMMARY:Mabo Day
DESCRIPTION:https://www.reconciliation.org.au/commemorating-mabo-day/
URL:https://www.plv.org.au/event/mabo-day/2029-06-03/
CATEGORIES:Diversity, Equity and Inclusion,First Nations,History
END:VEVENT
BEGIN:VEVENT
DTSTART;VALUE=DATE:20290701
DTEND;VALUE=DATE:20290709
DTSTAMP:20260424T180332
CREATED:20240321T051917Z
LAST-MODIFIED:20240801T042251Z
UID:10000600-1877558400-1878249599@www.plv.org.au
SUMMARY:NAIDOC Week
DESCRIPTION:https://www.naidoc.org.au/
URL:https://www.plv.org.au/event/naidoc-week-4/2029-07-01/
CATEGORIES:Diversity, Equity and Inclusion,First Nations,History,Reader Development
END:VEVENT
END:VCALENDAR