BEGIN:VCALENDAR
VERSION:2.0
PRODID:-//Public Libraries Victoria - ECPv6.15.20//NONSGML v1.0//EN
CALSCALE:GREGORIAN
METHOD:PUBLISH
X-ORIGINAL-URL:https://www.plv.org.au
X-WR-CALDESC:Events for Public Libraries Victoria
REFRESH-INTERVAL;VALUE=DURATION:PT1H
X-Robots-Tag:noindex
X-PUBLISHED-TTL:PT1H
BEGIN:VTIMEZONE
TZID:Australia/Melbourne
BEGIN:STANDARD
TZOFFSETFROM:+1100
TZOFFSETTO:+1000
TZNAME:AEST
DTSTART:20230401T160000
END:STANDARD
BEGIN:DAYLIGHT
TZOFFSETFROM:+1000
TZOFFSETTO:+1100
TZNAME:AEDT
DTSTART:20230930T160000
END:DAYLIGHT
BEGIN:STANDARD
TZOFFSETFROM:+1100
TZOFFSETTO:+1000
TZNAME:AEST
DTSTART:20240406T160000
END:STANDARD
BEGIN:DAYLIGHT
TZOFFSETFROM:+1000
TZOFFSETTO:+1100
TZNAME:AEDT
DTSTART:20241005T160000
END:DAYLIGHT
BEGIN:STANDARD
TZOFFSETFROM:+1100
TZOFFSETTO:+1000
TZNAME:AEST
DTSTART:20250405T160000
END:STANDARD
BEGIN:DAYLIGHT
TZOFFSETFROM:+1000
TZOFFSETTO:+1100
TZNAME:AEDT
DTSTART:20251004T160000
END:DAYLIGHT
BEGIN:STANDARD
TZOFFSETFROM:+1100
TZOFFSETTO:+1000
TZNAME:AEST
DTSTART:20260404T160000
END:STANDARD
BEGIN:DAYLIGHT
TZOFFSETFROM:+1000
TZOFFSETTO:+1100
TZNAME:AEDT
DTSTART:20261003T160000
END:DAYLIGHT
BEGIN:STANDARD
TZOFFSETFROM:+1100
TZOFFSETTO:+1000
TZNAME:AEST
DTSTART:20270403T160000
END:STANDARD
BEGIN:DAYLIGHT
TZOFFSETFROM:+1000
TZOFFSETTO:+1100
TZNAME:AEDT
DTSTART:20271002T160000
END:DAYLIGHT
END:VTIMEZONE
BEGIN:VEVENT
DTSTART;TZID=Australia/Melbourne:20260415T000000
DTEND;TZID=Australia/Melbourne:20260415T235959
DTSTAMP:20260420T200622
CREATED:20251107T055138Z
LAST-MODIFIED:20251107T055138Z
UID:10001383-1776211200-1776297599@www.plv.org.au
SUMMARY:World Art Day
DESCRIPTION:https://www.unesco.org/en/days/world-art
URL:https://www.plv.org.au/event/world-art-day/2026-04-15/
CATEGORIES:Families and Children,First Nations,Health and Wellbeing,Postive Ageing,STEAM,Youth
END:VEVENT
BEGIN:VEVENT
DTSTART;TZID=Australia/Melbourne:20260319T000000
DTEND;TZID=Australia/Melbourne:20260319T235959
DTSTAMP:20260420T200622
CREATED:20250829T064521Z
LAST-MODIFIED:20251010T054956Z
UID:10001083-1773878400-1773964799@www.plv.org.au
SUMMARY:National Close the Gap Day
DESCRIPTION:CLOSE THE GAP
URL:https://www.plv.org.au/event/national-close-the-gap-day/2026-03-19/
CATEGORIES:Diversity, Equity and Inclusion,First Nations
END:VEVENT
BEGIN:VEVENT
DTSTART;VALUE=DATE:20260213
DTEND;VALUE=DATE:20260214
DTSTAMP:20260420T200622
CREATED:20240822T044146Z
LAST-MODIFIED:20240822T044146Z
UID:10000616-1770940800-1771027199@www.plv.org.au
SUMMARY:National Apology Anniversary
DESCRIPTION:https://healingfoundation.org.au/apology-2/
URL:https://www.plv.org.au/event/national-apology-anniversary/2026-02-13/
CATEGORIES:First Nations
END:VEVENT
BEGIN:VEVENT
DTSTART;TZID=Australia/Melbourne:20250903T000000
DTEND;TZID=Australia/Melbourne:20250903T235959
DTSTAMP:20260420T200622
CREATED:20250815T070236Z
LAST-MODIFIED:20250815T070236Z
UID:10000955-1756857600-1756943999@www.plv.org.au
SUMMARY:Indigenous Literacy Day
DESCRIPTION:https://www.ilf.org.au/ild
URL:https://www.plv.org.au/event/indigenous-literacy-day/2025-09-03/
CATEGORIES:First Nations
END:VEVENT
BEGIN:VEVENT
DTSTART;TZID=Australia/Melbourne:20250809T000000
DTEND;TZID=Australia/Melbourne:20250809T235959
DTSTAMP:20260420T200622
CREATED:20250801T070114Z
LAST-MODIFIED:20250801T070114Z
UID:10000806-1754697600-1754783999@www.plv.org.au
SUMMARY:International Day of the World's Indigenous Peoples
DESCRIPTION:https://www.un.org/en/observances/indigenous-day
URL:https://www.plv.org.au/event/international-day-of-the-worlds-indigenous-peoples/2025-08-09/
CATEGORIES:First Nations
END:VEVENT
BEGIN:VEVENT
DTSTART;TZID=Australia/Melbourne:20250804T000000
DTEND;TZID=Australia/Melbourne:20250804T235959
DTSTAMP:20260420T200622
CREATED:20250815T063312Z
LAST-MODIFIED:20250815T063312Z
UID:10000867-1754265600-1754351999@www.plv.org.au
SUMMARY:National Aboriginal and Torres Strait Islander Children's Day
DESCRIPTION:https://www.snaicc.org.au/our-work/campaigns/childrens-day/
URL:https://www.plv.org.au/event/national-aboriginal-and-torres-strait-islander-childrens-day/
CATEGORIES:First Nations
END:VEVENT
BEGIN:VEVENT
DTSTART;VALUE=DATE:20250706
DTEND;VALUE=DATE:20250714
DTSTAMP:20260420T200622
CREATED:20240321T051917Z
LAST-MODIFIED:20240801T042251Z
UID:10000499-1751760000-1752451199@www.plv.org.au
SUMMARY:NAIDOC Week
DESCRIPTION:https://www.naidoc.org.au/
URL:https://www.plv.org.au/event/naidoc-week-4/2025-07-06/
CATEGORIES:Diversity, Equity and Inclusion,First Nations,History,Reader Development
END:VEVENT
BEGIN:VEVENT
DTSTART;TZID=Australia/Melbourne:20250603T000000
DTEND;TZID=Australia/Melbourne:20250603T235959
DTSTAMP:20260420T200622
CREATED:20251024T054631Z
LAST-MODIFIED:20251024T054631Z
UID:10001349-1748908800-1748995199@www.plv.org.au
SUMMARY:Mabo Day
DESCRIPTION:https://www.reconciliation.org.au/commemorating-mabo-day/
URL:https://www.plv.org.au/event/mabo-day/2025-06-03/
CATEGORIES:Diversity, Equity and Inclusion,First Nations,History
END:VEVENT
BEGIN:VEVENT
DTSTART;VALUE=DATE:20250526
DTEND;VALUE=DATE:20250603
DTSTAMP:20260420T200622
CREATED:20240228T052348Z
LAST-MODIFIED:20240228T052348Z
UID:10000464-1748217600-1748908799@www.plv.org.au
SUMMARY:Reconciliation Week
DESCRIPTION:National Reconciliation Week
URL:https://www.plv.org.au/event/reconciliation-week/2025-05-26/
CATEGORIES:First Nations
END:VEVENT
BEGIN:VEVENT
DTSTART;TZID=Australia/Melbourne:20250526T000000
DTEND;TZID=Australia/Melbourne:20250526T235959
DTSTAMP:20260420T200622
CREATED:20250815T063450Z
LAST-MODIFIED:20250815T063450Z
UID:10000868-1748217600-1748303999@www.plv.org.au
SUMMARY:National Sorry Day
DESCRIPTION:https://healingfoundation.org.au/sorryday/
URL:https://www.plv.org.au/event/national-sorry-day/2025-05-26/
CATEGORIES:Diversity, Equity and Inclusion,First Nations
END:VEVENT
BEGIN:VEVENT
DTSTART;TZID=Australia/Melbourne:20250415T000000
DTEND;TZID=Australia/Melbourne:20250415T235959
DTSTAMP:20260420T200622
CREATED:20251107T055138Z
LAST-MODIFIED:20251107T055138Z
UID:10001382-1744675200-1744761599@www.plv.org.au
SUMMARY:World Art Day
DESCRIPTION:https://www.unesco.org/en/days/world-art
URL:https://www.plv.org.au/event/world-art-day/2025-04-15/
CATEGORIES:Families and Children,First Nations,Health and Wellbeing,Postive Ageing,STEAM,Youth
END:VEVENT
BEGIN:VEVENT
DTSTART;TZID=Australia/Melbourne:20250320T000000
DTEND;TZID=Australia/Melbourne:20250320T235959
DTSTAMP:20260420T200622
CREATED:20250829T064521Z
LAST-MODIFIED:20251010T054956Z
UID:10001082-1742428800-1742515199@www.plv.org.au
SUMMARY:National Close the Gap Day
DESCRIPTION:CLOSE THE GAP
URL:https://www.plv.org.au/event/national-close-the-gap-day/2025-03-20/
CATEGORIES:Diversity, Equity and Inclusion,First Nations
END:VEVENT
BEGIN:VEVENT
DTSTART;VALUE=DATE:20250213
DTEND;VALUE=DATE:20250214
DTSTAMP:20260420T200622
CREATED:20240822T044146Z
LAST-MODIFIED:20240822T044146Z
UID:10000615-1739404800-1739491199@www.plv.org.au
SUMMARY:National Apology Anniversary
DESCRIPTION:https://healingfoundation.org.au/apology-2/
URL:https://www.plv.org.au/event/national-apology-anniversary/2025-02-13/
CATEGORIES:First Nations
END:VEVENT
BEGIN:VEVENT
DTSTART;VALUE=DATE:20240707
DTEND;VALUE=DATE:20240715
DTSTAMP:20260420T200622
CREATED:20240321T051917Z
LAST-MODIFIED:20240801T042251Z
UID:10000498-1720310400-1721001599@www.plv.org.au
SUMMARY:NAIDOC Week
DESCRIPTION:https://www.naidoc.org.au/
URL:https://www.plv.org.au/event/naidoc-week-4/2024-07-07/
CATEGORIES:Diversity, Equity and Inclusion,First Nations,History,Reader Development
END:VEVENT
BEGIN:VEVENT
DTSTART;VALUE=DATE:20240527
DTEND;VALUE=DATE:20240604
DTSTAMP:20260420T200622
CREATED:20240228T052348Z
LAST-MODIFIED:20240228T052348Z
UID:10000463-1716768000-1717459199@www.plv.org.au
SUMMARY:Reconciliation Week
DESCRIPTION:National Reconciliation Week
URL:https://www.plv.org.au/event/reconciliation-week/2024-05-27/
CATEGORIES:First Nations
END:VEVENT
END:VCALENDAR